BEGIN:VCALENDAR
VERSION:2.0
PRODID:-//Songrise Jazzchor Erftstadt - ECPv6.15.20//NONSGML v1.0//EN
CALSCALE:GREGORIAN
METHOD:PUBLISH
X-WR-CALNAME:Songrise Jazzchor Erftstadt
X-ORIGINAL-URL:https://songrise.de
X-WR-CALDESC:Veranstaltungen für Songrise Jazzchor Erftstadt
REFRESH-INTERVAL;VALUE=DURATION:PT1H
X-Robots-Tag:noindex
X-PUBLISHED-TTL:PT1H
BEGIN:VTIMEZONE
TZID:Europe/Berlin
BEGIN:DAYLIGHT
TZOFFSETFROM:+0100
TZOFFSETTO:+0200
TZNAME:CEST
DTSTART:20250330T010000
END:DAYLIGHT
BEGIN:STANDARD
TZOFFSETFROM:+0200
TZOFFSETTO:+0100
TZNAME:CET
DTSTART:20251026T010000
END:STANDARD
BEGIN:DAYLIGHT
TZOFFSETFROM:+0100
TZOFFSETTO:+0200
TZNAME:CEST
DTSTART:20260329T010000
END:DAYLIGHT
BEGIN:STANDARD
TZOFFSETFROM:+0200
TZOFFSETTO:+0100
TZNAME:CET
DTSTART:20261025T010000
END:STANDARD
BEGIN:DAYLIGHT
TZOFFSETFROM:+0100
TZOFFSETTO:+0200
TZNAME:CEST
DTSTART:20270328T010000
END:DAYLIGHT
BEGIN:STANDARD
TZOFFSETFROM:+0200
TZOFFSETTO:+0100
TZNAME:CET
DTSTART:20271031T010000
END:STANDARD
END:VTIMEZONE
BEGIN:VEVENT
DTSTART;TZID=Europe/Berlin:20260426T170000
DTEND;TZID=Europe/Berlin:20260426T200000
DTSTAMP:20260426T022758
CREATED:20260211T173251Z
LAST-MODIFIED:20260411T143324Z
UID:2665-1777222800-1777233600@songrise.de
SUMMARY:Chor-Konzert Songrise & O de Cologne
DESCRIPTION:Tickets im Vorverkauf: konzert@songrise.de \n– Regulär: 12 Euro\, ermäßigt: 8 Euro (Abendkasse: 14/10 Euro)
URL:https://songrise.de/event/chor-konzert-songrise-o-de-cologne/
LOCATION:Anneliese Geske Musik- und Kulturhaus Erftstadt\, Gustav-Heinemann-Straße 1a\, Erftstadt-Liblar\, NRW\, 50374\, Deutschland
CATEGORIES:Konzert
ATTACH;FMTTYPE=image/png:https://songrise.de/wp-content/uploads/2026/03/Konzert2026-04-26_n.png
END:VEVENT
END:VCALENDAR